BEGIN:VCALENDAR
BEGIN:VEVENT
SUMMARY:Gedenkfeier Volkstrauertag
DTSTART:20251116T100000
DTEND:20251116T120000
UID:terminkalender-event_1762862206_6202316.html
LOCATION:Start Ehrenmal Ecke Forsthausstraße
ORGANIZER:mailto:s_3531@bildung.hessen.de
END:VEVENT
BEGIN:VEVENT
SUMMARY:Elternabend "Betreuung" für künftige Erstklasskinder
DTSTART:20251203T193000
DTEND:20251203T210000
UID:terminkalender-event_1764675284_5462825.html
LOCATION:Betreuungsräume am Turnplatz
ORGANIZER:mailto:s_3531@bildung.hessen.de
END:VEVENT
BEGIN:VEVENT
SUMMARY:Weihnachtsferien
DTSTART;VALUE=DATE:20251222
DTEND;VALUE=DATE:20260110
UID:terminkalender-event_1685436611_356635.html
ORGANIZER:mailto:s_3531@bildung.hessen.de
END:VEVENT
BEGIN:VEVENT
SUMMARY:Zeugnisausgabe
DTSTART:20260130T094500
DTEND:20260130T103000
UID:terminkalender-event_1764675372_0751169.html
ORGANIZER:mailto:s_3531@bildung.hessen.de
END:VEVENT
BEGIN:VEVENT
SUMMARY:Fasching - schulfrei
DTSTART;VALUE=DATE:20260216
DTEND;VALUE=DATE:20260217
UID:terminkalender-event_1764675465_2702746.html
ORGANIZER:mailto:s_3531@bildung.hessen.de
END:VEVENT
BEGIN:VEVENT
SUMMARY:Osterferien
DTSTART;VALUE=DATE:20260330
DTEND;VALUE=DATE:20260410
UID:terminkalender-event_1764675539_198472.html
ORGANIZER:mailto:s_3531@bildung.hessen.de
END:VEVENT
BEGIN:VEVENT
SUMMARY:Tag der Arbeit - schulfrei
DTSTART;VALUE=DATE:20260501
DTEND;VALUE=DATE:20260501
UID:terminkalender-event_1764675604_3834157.html
ORGANIZER:mailto:s_3531@bildung.hessen.de
END:VEVENT
BEGIN:VEVENT
SUMMARY:Christi Himmelfahrt - schulfrei
DTSTART;VALUE=DATE:20260514
DTEND;VALUE=DATE:20260514
UID:terminkalender-event_1764675653_6174548.html
ORGANIZER:mailto:s_3531@bildung.hessen.de
END:VEVENT
BEGIN:VEVENT
SUMMARY:beweglicher Ferientag
DTSTART;VALUE=DATE:20260515
DTEND;VALUE=DATE:20260515
UID:terminkalender-event_1764675686_6445327.html
ORGANIZER:mailto:s_3531@bildung.hessen.de
END:VEVENT
BEGIN:VEVENT
SUMMARY:Pfingstmontag - schulfrei
DTSTART;VALUE=DATE:20260525
DTEND;VALUE=DATE:20260525
UID:terminkalender-event_1764675714_387972.html
ORGANIZER:mailto:s_3531@bildung.hessen.de
END:VEVENT
BEGIN:VEVENT
SUMMARY:Projektwoche
DTSTART;VALUE=DATE:20260526
DTEND;VALUE=DATE:20260529
UID:terminkalender-event_1764675741_725241.html
ORGANIZER:mailto:s_3531@bildung.hessen.de
END:VEVENT
BEGIN:VEVENT
SUMMARY:Bundesjugendspiele
DTSTART;VALUE=DATE:20260601
DTEND;VALUE=DATE:20260601
UID:terminkalender-event_1764675770_1111035.html
ORGANIZER:mailto:s_3531@bildung.hessen.de
END:VEVENT
BEGIN:VEVENT
SUMMARY:Ausweichtermin Bundesjugendspiele
DTSTART;VALUE=DATE:20260608
DTEND;VALUE=DATE:20260608
UID:terminkalender-event_1764675794_640404.html
ORGANIZER:mailto:s_3531@bildung.hessen.de
END:VEVENT
BEGIN:VEVENT
SUMMARY:Zeugnisausgabe - letzter Schultag
DTSTART:20260626T094500
DTEND:20260626T103000
UID:terminkalender-event_1764675833_641642.html
ORGANIZER:mailto:s_3531@bildung.hessen.de
END:VEVENT
BEGIN:VEVENT
SUMMARY:Sommerferien
DTSTART;VALUE=DATE:20260629
DTEND;VALUE=DATE:20260807
UID:terminkalender-event_1764675872_7938173.html
ORGANIZER:mailto:s_3531@bildung.hessen.de
END:VEVENT
BEGIN:VEVENT
SUMMARY:Einschulung
DTSTART:20260811T100000
DTEND:20260811T130000
UID:terminkalender-event_1764675918_6166127.html
ORGANIZER:mailto:s_3531@bildung.hessen.de
END:VEVENT
END:VCALENDAR
